BEGIN:VCALENDAR
VERSION:2.0
PRODID:-//WorldBeat Center Official Website - ECPv6.15.20//NONSGML v1.0//EN
CALSCALE:GREGORIAN
METHOD:PUBLISH
X-ORIGINAL-URL:https://www.worldbeatcenter.org
X-WR-CALDESC:Events for WorldBeat Center Official Website
REFRESH-INTERVAL;VALUE=DURATION:PT1H
X-Robots-Tag:noindex
X-PUBLISHED-TTL:PT1H
BEGIN:VTIMEZONE
TZID:America/Los_Angeles
BEGIN:DAYLIGHT
TZOFFSETFROM:-0800
TZOFFSETTO:-0700
TZNAME:PDT
DTSTART:20200308T100000
END:DAYLIGHT
BEGIN:STANDARD
TZOFFSETFROM:-0700
TZOFFSETTO:-0800
TZNAME:PST
DTSTART:20201101T090000
END:STANDARD
BEGIN:DAYLIGHT
TZOFFSETFROM:-0800
TZOFFSETTO:-0700
TZNAME:PDT
DTSTART:20210314T100000
END:DAYLIGHT
BEGIN:STANDARD
TZOFFSETFROM:-0700
TZOFFSETTO:-0800
TZNAME:PST
DTSTART:20211107T090000
END:STANDARD
BEGIN:DAYLIGHT
TZOFFSETFROM:-0800
TZOFFSETTO:-0700
TZNAME:PDT
DTSTART:20220313T100000
END:DAYLIGHT
BEGIN:STANDARD
TZOFFSETFROM:-0700
TZOFFSETTO:-0800
TZNAME:PST
DTSTART:20221106T090000
END:STANDARD
END:VTIMEZONE
BEGIN:VEVENT
DTSTART;TZID=America/Los_Angeles:20211227T090000
DTEND;TZID=America/Los_Angeles:20211230T160000
DTSTAMP:20260423T115719
CREATED:20211214T055711Z
LAST-MODIFIED:20211227T152249Z
UID:36347-1640595600-1640880000@www.worldbeatcenter.org
SUMMARY:Kwanzaa Camp - cancelled
DESCRIPTION:***CANCELLED**** See you next year\n\nKWANZAA CAMP 2021\nMonday\, December 27 – Thursday\, December 30\n\nEach camp session is (4) days\, 9am-4pm daily.\nEach camp will feature music\, art\, dance\, theater\, garden/outdoor classroom\, science\, technology\, yoga\, and more!\n\nKwanzaa Camp will dedicate each day to one of the KwanzaaPrinciples (Kujichagulia\, Ujima\, Ujamaa\, Nia). All activities that day will reflect that principle. African studies scholars will share history and storytelling of ‘SANKOFA’\, days gone by and what is to come!\n\nGuest artists\, poets\, musicians\, dancers\, and teachers will bring an abundance of enrichment activities to the children during each week that will last during camp and beyond.\n\nSpecialty activities will include drum class\, African dance class\, Balboa Park trip\, and the family favorite\, “The Camper Mini Show”!\n\n\nMonday and Wednesday – Music\, Art\, Dance\, Theater\nTuesday and Thursday – Garden\, Yoga\, Dance\, Theater\nTuesday Specialty Activity: Drum Class\nThursday Specialty Activity: African Dance Class\nKwanzaa Performance: Sunday\, December 26th!\n\n$150 per camper\, *plus* the $20 Activity Fee\n\nREGISTER HERE
URL:https://www.worldbeatcenter.org/event/kwanzaa-camp/2021-12-27/
LOCATION:WorldBeat Center\, 2100 Park Blvd\, San Diego\, 92101\, United States
CATEGORIES:Events
ATTACH;FMTTYPE=image/jpeg:https://www.worldbeatcenter.org/wp-content/uploads/2021/12/23371641064_13dab3d119_k.jpg
END:VEVENT
END:VCALENDAR