BEGIN:VCALENDAR
VERSION:2.0
PRODID:-//WorldBeat Center Official Website - ECPv6.15.20//NONSGML v1.0//EN
CALSCALE:GREGORIAN
METHOD:PUBLISH
X-ORIGINAL-URL:https://www.worldbeatcenter.org
X-WR-CALDESC:Events for WorldBeat Center Official Website
REFRESH-INTERVAL;VALUE=DURATION:PT1H
X-Robots-Tag:noindex
X-PUBLISHED-TTL:PT1H
BEGIN:VTIMEZONE
TZID:America/Los_Angeles
BEGIN:DAYLIGHT
TZOFFSETFROM:-0800
TZOFFSETTO:-0700
TZNAME:PDT
DTSTART:20140309T100000
END:DAYLIGHT
BEGIN:STANDARD
TZOFFSETFROM:-0700
TZOFFSETTO:-0800
TZNAME:PST
DTSTART:20141102T090000
END:STANDARD
BEGIN:DAYLIGHT
TZOFFSETFROM:-0800
TZOFFSETTO:-0700
TZNAME:PDT
DTSTART:20150308T100000
END:DAYLIGHT
BEGIN:STANDARD
TZOFFSETFROM:-0700
TZOFFSETTO:-0800
TZNAME:PST
DTSTART:20151101T090000
END:STANDARD
BEGIN:DAYLIGHT
TZOFFSETFROM:-0800
TZOFFSETTO:-0700
TZNAME:PDT
DTSTART:20160313T100000
END:DAYLIGHT
BEGIN:STANDARD
TZOFFSETFROM:-0700
TZOFFSETTO:-0800
TZNAME:PST
DTSTART:20161106T090000
END:STANDARD
END:VTIMEZONE
BEGIN:VEVENT
DTSTART;TZID=America/Los_Angeles:20150106T140000
DTEND;TZID=America/Los_Angeles:20150106T161500
DTSTAMP:20260422T081333
CREATED:20141230T232719Z
LAST-MODIFIED:20150822T012844Z
UID:2040-1420552800-1420560900@www.worldbeatcenter.org
SUMMARY:Children's West African Drumming Classes
DESCRIPTION:Register for Information on classes. \nToddlers class $8. \nOlder children’s class $9. Pay instructor day of class. \n\nToddler’s Classes  2:00-2:30 PM\n(6 mos-6 yrs) 3:00-3:30 PM\n\nOlder Children & Adult Classes: 3:30-4:15 PM\n(7 yrs on up)\n\nEvery Tuesday 2:00 – 4:15 PM\n\n\nWith Master of Drums\nNana Yaw Asiedu\nMaster of drums\, Nana Yaw Asiedu has been teaching West African drumming to toddlers and children at the WorldBeat Center for over 14 years. Nana has played with many great musicians of our time\, including Herbie Hancock\, Quincy Jones\, and Taj Mahal. Nana brings the rhythms of Ghana\, Nigeria\, Senegal\, Guinee\, Ivory Coast\, Mali\, India\, Cuba\, & Brazil to his classes. Come let your child learn through music; they are never too young!
URL:https://www.worldbeatcenter.org/event/childrens-west-african-drumming-classes/2015-01-06/
LOCATION:WorldBeat Center\, 2100 Park Blvd\, San Diego\, 92101\, United States
CATEGORIES:Classes
ATTACH;FMTTYPE=image/jpeg:https://www.worldbeatcenter.org/wp-content/uploads/2014/12/toddlers-drum.jpg
END:VEVENT
END:VCALENDAR