BEGIN:VCALENDAR
VERSION:2.0
PRODID:-//WorldBeat Center Official Website - ECPv6.15.20//NONSGML v1.0//EN
CALSCALE:GREGORIAN
METHOD:PUBLISH
X-ORIGINAL-URL:https://www.worldbeatcenter.org
X-WR-CALDESC:Events for WorldBeat Center Official Website
REFRESH-INTERVAL;VALUE=DURATION:PT1H
X-Robots-Tag:noindex
X-PUBLISHED-TTL:PT1H
BEGIN:VTIMEZONE
TZID:America/Los_Angeles
BEGIN:DAYLIGHT
TZOFFSETFROM:-0800
TZOFFSETTO:-0700
TZNAME:PDT
DTSTART:20140309T100000
END:DAYLIGHT
BEGIN:STANDARD
TZOFFSETFROM:-0700
TZOFFSETTO:-0800
TZNAME:PST
DTSTART:20141102T090000
END:STANDARD
BEGIN:DAYLIGHT
TZOFFSETFROM:-0800
TZOFFSETTO:-0700
TZNAME:PDT
DTSTART:20150308T100000
END:DAYLIGHT
BEGIN:STANDARD
TZOFFSETFROM:-0700
TZOFFSETTO:-0800
TZNAME:PST
DTSTART:20151101T090000
END:STANDARD
BEGIN:DAYLIGHT
TZOFFSETFROM:-0800
TZOFFSETTO:-0700
TZNAME:PDT
DTSTART:20160313T100000
END:DAYLIGHT
BEGIN:STANDARD
TZOFFSETFROM:-0700
TZOFFSETTO:-0800
TZNAME:PST
DTSTART:20161106T090000
END:STANDARD
END:VTIMEZONE
BEGIN:VEVENT
DTSTART;TZID=America/Los_Angeles:20150106T170000
DTEND;TZID=America/Los_Angeles:20150106T183000
DTSTAMP:20260422T081925
CREATED:20141231T000429Z
LAST-MODIFIED:20150822T014640Z
UID:2701-1420563600-1420569000@www.worldbeatcenter.org
SUMMARY:Awakening of the Body
DESCRIPTION:$40/ month for 8 classes every Tues and Thurs\, and a FREE boot camp class every Wed at Morley Field!\nRay Scott is a Certified A.C.E.\, and an AFAA Kick Boxer. He is a Fitness Specialist from City College and has a  degree from San Diego State University. Scott has been in the industry for over 10 years. \nAll fitness levels and ages are welcome!\nContact the instructor for more info at (619) 640-0233 or (619) 640-5271 \nPlease pay instructor on day of class.
URL:https://www.worldbeatcenter.org/event/awakening-of-the-body/2015-01-06/
LOCATION:WorldBeat Center\, 2100 Park Blvd\, San Diego\, 92101\, United States
CATEGORIES:Classes
ATTACH;FMTTYPE=image/jpeg:https://www.worldbeatcenter.org/wp-content/uploads/2014/12/body-workout-scott.jpg
END:VEVENT
END:VCALENDAR