BEGIN:VCALENDAR
VERSION:2.0
PRODID:-//WorldBeat Center Official Website - ECPv6.15.20//NONSGML v1.0//EN
CALSCALE:GREGORIAN
METHOD:PUBLISH
X-ORIGINAL-URL:https://www.worldbeatcenter.org
X-WR-CALDESC:Events for WorldBeat Center Official Website
REFRESH-INTERVAL;VALUE=DURATION:PT1H
X-Robots-Tag:noindex
X-PUBLISHED-TTL:PT1H
BEGIN:VTIMEZONE
TZID:America/Los_Angeles
BEGIN:DAYLIGHT
TZOFFSETFROM:-0800
TZOFFSETTO:-0700
TZNAME:PDT
DTSTART:20210314T100000
END:DAYLIGHT
BEGIN:STANDARD
TZOFFSETFROM:-0700
TZOFFSETTO:-0800
TZNAME:PST
DTSTART:20211107T090000
END:STANDARD
BEGIN:DAYLIGHT
TZOFFSETFROM:-0800
TZOFFSETTO:-0700
TZNAME:PDT
DTSTART:20220313T100000
END:DAYLIGHT
BEGIN:STANDARD
TZOFFSETFROM:-0700
TZOFFSETTO:-0800
TZNAME:PST
DTSTART:20221106T090000
END:STANDARD
BEGIN:DAYLIGHT
TZOFFSETFROM:-0800
TZOFFSETTO:-0700
TZNAME:PDT
DTSTART:20230312T100000
END:DAYLIGHT
BEGIN:STANDARD
TZOFFSETFROM:-0700
TZOFFSETTO:-0800
TZNAME:PST
DTSTART:20231105T090000
END:STANDARD
END:VTIMEZONE
BEGIN:VEVENT
DTSTART;TZID=America/Los_Angeles:20221123T190000
DTEND;TZID=America/Los_Angeles:20221123T230000
DTSTAMP:20260421T092556
CREATED:20220906T213136Z
LAST-MODIFIED:20221123T170821Z
UID:38849-1669230000-1669244400@www.worldbeatcenter.org
SUMMARY:Native American Month Celebration
DESCRIPTION:Come celebrate Native American Month with a blessing and drum circle by Tim Red Bird and the Red Warriors   \nAlso with us King Yellowman and Alika (with DJ Mykol Orthodox) \nAbout King Yellowman \nKing Yellowman has an incredible history in Reggae music. His upbringing at the Maxfield Home orphanage in Kingston and being albino in Jamaica were two obstacles he overcame and went on to be (at one time) the biggest reggae artist since Bob Marley. After winning a talent contest at Tastee Patties in Kingston\, Yellow went on to excite reggae crowds all over Jamaica and the rest of the world with his boastful and sometimes bodacious lyrics. His ability to ride rhythm and excite a crowd made Yellow an instant hit in Jamaica. After surgery an extended leave of absence from the record industry\, Yellowman began his comeback with the song “Blueberry Hill”\, and his career was re-launched. His first album for RAS came from producer Phillip ‘Fatis’ Burrell and was called “Yellow Like Cheese”. Coincidentally this was the start of a long and fruitful relationship with RAS and Yellowman and also RAS and ‘Fatis’ and his exterminator production. Yellowman has always been very professional to work with and always a respectful and reliable human being. He has managed to outlive his predicted fate of death and his performances are incredibly lively as he seems to have an unlimited amount of stage energy. We can only hope for the best for Yellowman. He has continued his hard work and his devotion to his family is to be complimented.  \nAbout Alika \nAlika (born Alicia Dal Monte Campuzano in Montevideo\, Uruguay and raised in Buenos Aires\, Argentina) is one of the most important artists in South America right now garnering millions of hits on Youtube…Alika’s latest album\, Mi Palabra\, Mi Alma (My Word\, My Soul)\, is just that: Reggae drums and Hip-Hop beats that help her bare her soul in rhymes and music. “El Don\,” a cumbia-infused Hip-Hop track featuring Argentine rapper La Liga made its worldwide debut last year as part of the soundtrack to the popular video game “Grand Theft Auto V”. \n  \n 
URL:https://www.worldbeatcenter.org/event/king-yellowman-and-kreema-live/
LOCATION:WorldBeat Center\, 2100 Park Blvd\, San Diego\, 92101\, United States
CATEGORIES:Events
ATTACH;FMTTYPE=image/jpeg:https://www.worldbeatcenter.org/wp-content/uploads/2022/09/Native-month-flyer-size.jpg
END:VEVENT
END:VCALENDAR