BEGIN:VCALENDAR
VERSION:2.0
PRODID:-//WorldBeat Center Official Website - ECPv6.15.20//NONSGML v1.0//EN
CALSCALE:GREGORIAN
METHOD:PUBLISH
X-ORIGINAL-URL:https://www.worldbeatcenter.org
X-WR-CALDESC:Events for WorldBeat Center Official Website
REFRESH-INTERVAL;VALUE=DURATION:PT1H
X-Robots-Tag:noindex
X-PUBLISHED-TTL:PT1H
BEGIN:VTIMEZONE
TZID:America/Los_Angeles
BEGIN:DAYLIGHT
TZOFFSETFROM:-0800
TZOFFSETTO:-0700
TZNAME:PDT
DTSTART:20210314T100000
END:DAYLIGHT
BEGIN:STANDARD
TZOFFSETFROM:-0700
TZOFFSETTO:-0800
TZNAME:PST
DTSTART:20211107T090000
END:STANDARD
BEGIN:DAYLIGHT
TZOFFSETFROM:-0800
TZOFFSETTO:-0700
TZNAME:PDT
DTSTART:20220313T100000
END:DAYLIGHT
BEGIN:STANDARD
TZOFFSETFROM:-0700
TZOFFSETTO:-0800
TZNAME:PST
DTSTART:20221106T090000
END:STANDARD
BEGIN:DAYLIGHT
TZOFFSETFROM:-0800
TZOFFSETTO:-0700
TZNAME:PDT
DTSTART:20230312T100000
END:DAYLIGHT
BEGIN:STANDARD
TZOFFSETFROM:-0700
TZOFFSETTO:-0800
TZNAME:PST
DTSTART:20231105T090000
END:STANDARD
END:VTIMEZONE
BEGIN:VEVENT
DTSTART;TZID=America/Los_Angeles:20221116T180000
DTEND;TZID=America/Los_Angeles:20221116T210000
DTSTAMP:20260421T074725
CREATED:20221024T221350Z
LAST-MODIFIED:20221114T044023Z
UID:39323-1668621600-1668632400@www.worldbeatcenter.org
SUMMARY:Dr. Julius W. Garvey West Coast Book Tour
DESCRIPTION:WorldBeat Cultural Center is pleased to welcome Dr. Julius W. Garvey\, son of Marcus Mosiah Garvey to WorldBeat Center as part of his West Coast Book Tour for the revised edition of “The Philosophy and Opinions of Marcus Garvey”.  \nSurgeon and medical professor Dr. Julius W. Garvey was born on September 17\, 1933 in Kingston\, Jamaica to United Negro Improvement Association founder Marcus Garvey and activist Amy Jacques Garvey. The younger of two sons\, Garvey was raised in Jamaica. He graduated from Wolmer’s Trust High School for Boys in Kingston in 1950; and then earned his B.S. degree from McGill University in Montréal\, Canada in 1957\, and his M.D.\, C.M. degree from McGill University Faculty of Medicine in 1961. \nThe late leader’s son\, Dr. Julius W. Garvey\, has been leading the charge to have his father’s name cleared after the elder Garvey was convicted of crimes that the family solidly argues he did not commit. \nIn an exclusive interview with theGrio\, Dr. Garvey explained the finer details of the Justice4Garvey movement\, which has the stated goal of seeking exoneration for Marcus Garvey. The elder Garvey was born Aug. 17\, 1887\, in St. Ann’s Bay\, Jamaica\, and established the Universal Negro Improvement Association and African Communities League (UNIA-ACL) in 1914 in his home country before moving the headquarters to New York. \nIn 1923\, Garvey was convicted of mail fraud in connection to the Black Star Line program he established as a pathway to economic equality for Black people. Garvey was imprisoned and later deported\, and his surging movement in America was stalled as he never again returned to the states. The Garvey family maintains that the charges against the leader were trumped up in order to halt any momentum that Garvey gained in the fight for civil rights. \n In a statement coinciding with the most recent resolution to pardon Marcus Garvey\, Rep. Clarke said\, “I call for the President [Biden] to exonerate Mr. Garvey on the grounds that the case against him was politically motivated\, unsubstantiated\, and unjust.”
URL:https://www.worldbeatcenter.org/event/dr-julius-w-garvey-west-coast-book-tour/
LOCATION:WorldBeat Center\, 2100 Park Blvd\, San Diego\, 92101\, United States
ATTACH;FMTTYPE=image/png:https://www.worldbeatcenter.org/wp-content/uploads/2022/10/5-x-7.png
END:VEVENT
END:VCALENDAR