BEGIN:VCALENDAR
VERSION:2.0
PRODID:-//WorldBeat Center Official Website - ECPv6.15.20//NONSGML v1.0//EN
CALSCALE:GREGORIAN
METHOD:PUBLISH
X-ORIGINAL-URL:https://www.worldbeatcenter.org
X-WR-CALDESC:Events for WorldBeat Center Official Website
REFRESH-INTERVAL;VALUE=DURATION:PT1H
X-Robots-Tag:noindex
X-PUBLISHED-TTL:PT1H
BEGIN:VTIMEZONE
TZID:America/Los_Angeles
BEGIN:DAYLIGHT
TZOFFSETFROM:-0800
TZOFFSETTO:-0700
TZNAME:PDT
DTSTART:20210314T100000
END:DAYLIGHT
BEGIN:STANDARD
TZOFFSETFROM:-0700
TZOFFSETTO:-0800
TZNAME:PST
DTSTART:20211107T090000
END:STANDARD
BEGIN:DAYLIGHT
TZOFFSETFROM:-0800
TZOFFSETTO:-0700
TZNAME:PDT
DTSTART:20220313T100000
END:DAYLIGHT
BEGIN:STANDARD
TZOFFSETFROM:-0700
TZOFFSETTO:-0800
TZNAME:PST
DTSTART:20221106T090000
END:STANDARD
BEGIN:DAYLIGHT
TZOFFSETFROM:-0800
TZOFFSETTO:-0700
TZNAME:PDT
DTSTART:20230312T100000
END:DAYLIGHT
BEGIN:STANDARD
TZOFFSETFROM:-0700
TZOFFSETTO:-0800
TZNAME:PST
DTSTART:20231105T090000
END:STANDARD
END:VTIMEZONE
BEGIN:VEVENT
DTSTART;TZID=America/Los_Angeles:20221112T113000
DTEND;TZID=America/Los_Angeles:20221112T130000
DTSTAMP:20260421T055727
CREATED:20221018T193544Z
LAST-MODIFIED:20221024T221536Z
UID:39169-1668252600-1668258000@www.worldbeatcenter.org
SUMMARY:Capoeira Batizado
DESCRIPTION:The Batizado is an annual initiation ritual and ceremony which has evolved and morphed over the centuries\, honoring the practice of Capoeira in a modern and global context. A student’s Batizado (Baptism) is the first time a student plays inside the Roda (Capoeira Playing Circle) with a Mestre de Capoeira (Master of Capoeira). It is an important rite of passage. Often\, a student may receive a new nickname that they become known by\, in the Capoeira World. In the past\, students would train for many months before they set foot in the Roda. Today\, although students may have experience playing inside the Roda\, the Batizado is considered their first real experience of the Jogo de Capoeira (Game of Capoeira). It is the official welcome and blessing. Another important aspect of the Batizado is the ‘Troca de Cordelî’  (the exchange of belts). Mestres play one or more games with the older students and acknowledge their achievements by awarding them higher belts.
URL:https://www.worldbeatcenter.org/event/capoeira-batizado/
LOCATION:WorldBeat Center\, 2100 Park Blvd\, San Diego\, 92101\, United States
ATTACH;FMTTYPE=image/jpeg:https://www.worldbeatcenter.org/wp-content/uploads/2022/10/Batisado_Poster-2022-page-0.jpg
END:VEVENT
END:VCALENDAR